BEGIN:VCALENDAR
VERSION:2.0
PRODID:-//SK Turm Bad Hersfeld - ECPv6.15.18//NONSGML v1.0//EN
CALSCALE:GREGORIAN
METHOD:PUBLISH
X-ORIGINAL-URL:https://sk-turm-hef.de
X-WR-CALDESC:Veranstaltungen für SK Turm Bad Hersfeld
REFRESH-INTERVAL;VALUE=DURATION:PT1H
X-Robots-Tag:noindex
X-PUBLISHED-TTL:PT1H
BEGIN:VTIMEZONE
TZID:Europe/Berlin
BEGIN:DAYLIGHT
TZOFFSETFROM:+0100
TZOFFSETTO:+0200
TZNAME:CEST
DTSTART:20250330T010000
END:DAYLIGHT
BEGIN:STANDARD
TZOFFSETFROM:+0200
TZOFFSETTO:+0100
TZNAME:CET
DTSTART:20251026T010000
END:STANDARD
BEGIN:DAYLIGHT
TZOFFSETFROM:+0100
TZOFFSETTO:+0200
TZNAME:CEST
DTSTART:20260329T010000
END:DAYLIGHT
BEGIN:STANDARD
TZOFFSETFROM:+0200
TZOFFSETTO:+0100
TZNAME:CET
DTSTART:20261025T010000
END:STANDARD
BEGIN:DAYLIGHT
TZOFFSETFROM:+0100
TZOFFSETTO:+0200
TZNAME:CEST
DTSTART:20270328T010000
END:DAYLIGHT
BEGIN:STANDARD
TZOFFSETFROM:+0200
TZOFFSETTO:+0100
TZNAME:CET
DTSTART:20271031T010000
END:STANDARD
END:VTIMEZONE
BEGIN:VEVENT
DTSTART;VALUE=DATE:20260425
DTEND;VALUE=DATE:20260426
DTSTAMP:20260423T162748
CREATED:20260215T180336Z
LAST-MODIFIED:20260215T180413Z
UID:1550-1777075200-1777161599@sk-turm-hef.de
SUMMARY:Hessische Mädchen-Mannschaftsmeisterschaft 2026
DESCRIPTION:Ausschreibung folgt
URL:https://sk-turm-hef.de/event/hessische-maedchen-mannschaftsmeisterschaft-2026/
END:VEVENT
BEGIN:VEVENT
DTSTART;TZID=Europe/Berlin:20260426T140000
DTEND;TZID=Europe/Berlin:20260426T190000
DTSTAMP:20260423T162748
CREATED:20250413T095420Z
LAST-MODIFIED:20250825T151350Z
UID:936-1777212000-1777230000@sk-turm-hef.de
SUMMARY:9. Spieltag der Landesklasse Nord sowie der Bezirksliga
DESCRIPTION:Link zur Landesklasse \nLink zur Bezirksliga
URL:https://sk-turm-hef.de/event/9-spieltag-der-lk-nord/
END:VEVENT
BEGIN:VEVENT
DTSTART;VALUE=DATE:20260509
DTEND;VALUE=DATE:20260510
DTSTAMP:20260423T162748
CREATED:20250626T125250Z
LAST-MODIFIED:20260413T080142Z
UID:1111-1778284800-1778371199@sk-turm-hef.de
SUMMARY:Jubiläumsfeier 80 Jahre SVG Landeck Schenklengsfeld
DESCRIPTION:Jubiläumsfeier 80 Jahre SVG Landeck Schenklengsfeld \nEinladung
URL:https://sk-turm-hef.de/event/jubilaeumsfeier-80-jahre-svg-landeck-schenklengsfeld/
END:VEVENT
BEGIN:VEVENT
DTSTART;VALUE=DATE:20260515
DTEND;VALUE=DATE:20260518
DTSTAMP:20260423T162748
CREATED:20260215T180943Z
LAST-MODIFIED:20260215T180943Z
UID:1552-1778803200-1779062399@sk-turm-hef.de
SUMMARY:Offene Hessische Frauen-Einzelmeisterschaft 2026
DESCRIPTION:Ausschreibung
URL:https://sk-turm-hef.de/event/offene-hessische-frauen-einzelmeisterschaft-2026/
END:VEVENT
BEGIN:VEVENT
DTSTART;TZID=Europe/Berlin:20260516T103000
DTEND;TZID=Europe/Berlin:20260516T180000
DTSTAMP:20260423T162748
CREATED:20260219T164729Z
LAST-MODIFIED:20260219T164729Z
UID:1567-1778927400-1778954400@sk-turm-hef.de
SUMMARY:Schnellschach - 50 Jahre Homberger Schachclub
DESCRIPTION:Die Ausschreibung findet ihr hier
URL:https://sk-turm-hef.de/event/schnellschach-50-jahre-homberger-schachclub/
END:VEVENT
BEGIN:VEVENT
DTSTART;TZID=Europe/Berlin:20260627T130000
DTEND;TZID=Europe/Berlin:20260627T190000
DTSTAMP:20260423T162748
CREATED:20251124T153514Z
LAST-MODIFIED:20260403T131457Z
UID:1437-1782565200-1782586800@sk-turm-hef.de
SUMMARY:2. Mückenstürmer-Blitz
DESCRIPTION:Ausschreibung Blitz_2026 \n  \nTurnierseite
URL:https://sk-turm-hef.de/event/2-mueckenstuermer-blitz/
END:VEVENT
BEGIN:VEVENT
DTSTART;VALUE=DATE:20260807
DTEND;VALUE=DATE:20260810
DTSTAMP:20260423T162748
CREATED:20260409T085721Z
LAST-MODIFIED:20260409T085721Z
UID:1609-1786060800-1786319999@sk-turm-hef.de
SUMMARY:Goldener Springer in Bad Soden
DESCRIPTION:Ausschreibung \nAnmeldung
URL:https://sk-turm-hef.de/event/goldener-springer-in-bad-soden/
END:VEVENT
BEGIN:VEVENT
DTSTART;TZID=Europe/Berlin:20260822T120000
DTEND;TZID=Europe/Berlin:20260822T180000
DTSTAMP:20260423T162748
CREATED:20260409T090203Z
LAST-MODIFIED:20260409T090203Z
UID:1611-1787400000-1787421600@sk-turm-hef.de
SUMMARY:Hessische Blitz-Einzelmeisterschaft in Frankfurt
DESCRIPTION:Ausschreibung \nAnmeldung
URL:https://sk-turm-hef.de/event/hessische-blitz-einzelmeisterschaft-in-frankfurt/
END:VEVENT
BEGIN:VEVENT
DTSTART;TZID=Europe/Berlin:20260823T090000
DTEND;TZID=Europe/Berlin:20260823T180000
DTSTAMP:20260423T162748
CREATED:20260409T090413Z
LAST-MODIFIED:20260409T090413Z
UID:1613-1787475600-1787508000@sk-turm-hef.de
SUMMARY:Hessische Schnellschach-Einzelmeisterschaft in Frankfurt
DESCRIPTION:Ausschreibung \nAnmeldung
URL:https://sk-turm-hef.de/event/hessische-schnellschach-einzelmeisterschaft-in-frankfurt/
END:VEVENT
BEGIN:VEVENT
DTSTART;VALUE=DATE:20260926
DTEND;VALUE=DATE:20260927
DTSTAMP:20260423T162748
CREATED:20260215T181135Z
LAST-MODIFIED:20260215T181135Z
UID:1554-1790380800-1790467199@sk-turm-hef.de
SUMMARY:U10-Mannschaftsmeisterschaften 2026
DESCRIPTION:Ausschreibung folgt
URL:https://sk-turm-hef.de/event/u10-mannschaftsmeisterschaften-2026/
END:VEVENT
BEGIN:VEVENT
DTSTART;TZID=Europe/Berlin:20261010T130000
DTEND;TZID=Europe/Berlin:20261010T190000
DTSTAMP:20260423T162748
CREATED:20251124T152757Z
LAST-MODIFIED:20251124T153444Z
UID:1424-1791637200-1791658800@sk-turm-hef.de
SUMMARY:2. Lolls-Rapid
DESCRIPTION:Ausschreibung folgt
URL:https://sk-turm-hef.de/event/2-lolls-rapid/
END:VEVENT
END:VCALENDAR